BEGIN:VCALENDAR
VERSION:2.0
PRODID:-//Escuela Técnica Industrial - ECPv6.2.2.1//NONSGML v1.0//EN
CALSCALE:GREGORIAN
METHOD:PUBLISH
X-ORIGINAL-URL:https://escuelatecnicaindustrial.com
X-WR-CALDESC:Eventos para Escuela Técnica Industrial
REFRESH-INTERVAL;VALUE=DURATION:PT1H
X-Robots-Tag:noindex
X-PUBLISHED-TTL:PT1H
BEGIN:VTIMEZONE
TZID:UTC
BEGIN:STANDARD
TZOFFSETFROM:+0000
TZOFFSETTO:+0000
TZNAME:UTC
DTSTART:20250101T000000
END:STANDARD
END:VTIMEZONE
BEGIN:VEVENT
DTSTART;TZID=UTC:20250513T080000
DTEND;TZID=UTC:20250513T163000
DTSTAMP:20260419T144612
CREATED:20250429T143405Z
LAST-MODIFIED:20250429T143405Z
UID:1705-1747123200-1747153800@escuelatecnicaindustrial.com
SUMMARY:Cableado y fibra óptica - MADRID
DESCRIPTION:Curso de instalación de sistemas de cableado estructurado y fibra óptica. Horario: de 8.00h a 13.00h y de 13.30h a 16.30h.
URL:https://escuelatecnicaindustrial.com/curso-eti/cableado-y-fibra-optica-madrid/
LOCATION:Araiz Suministros Eléctricos Madrid\, Calle Rey Pastor\, 4\, Leganés\, Madrid\, 28914\, España
CATEGORIES:Telecomunicaciones
END:VEVENT
END:VCALENDAR