BEGIN:VCALENDAR
VERSION:2.0
PRODID:-//Escuela Técnica Industrial - ECPv6.2.2.1//NONSGML v1.0//EN
CALSCALE:GREGORIAN
METHOD:PUBLISH
X-WR-CALNAME:Escuela Técnica Industrial
X-ORIGINAL-URL:https://escuelatecnicaindustrial.com
X-WR-CALDESC:Eventos para Escuela Técnica Industrial
REFRESH-INTERVAL;VALUE=DURATION:PT1H
X-Robots-Tag:noindex
X-PUBLISHED-TTL:PT1H
BEGIN:VTIMEZONE
TZID:UTC
BEGIN:STANDARD
TZOFFSETFROM:+0000
TZOFFSETTO:+0000
TZNAME:UTC
DTSTART:20240101T000000
END:STANDARD
END:VTIMEZONE
BEGIN:VEVENT
DTSTART;TZID=UTC:20241021T150000
DTEND;TZID=UTC:20241021T190000
DTSTAMP:20260421T135718
CREATED:20240911T080414Z
LAST-MODIFIED:20240911T080414Z
UID:1569-1729522800-1729537200@escuelatecnicaindustrial.com
SUMMARY:Cableado y fibra óptica - ZARAGOZA
DESCRIPTION:Curso de instalación de sistemas de cableado estructurado y fibra óptica. Consta de dos sesiones\, el lunes 21 y el lunes 28\, en horario de 15h a 19h.
URL:https://escuelatecnicaindustrial.com/curso-eti/cableado-y-fibra-optica-zaragoza/
LOCATION:Araiz Suministros Eléctricos Zaragoza\, Araiz Suministros Eléctricos Zaragoza\, Calle Jaime Ferrán 17\, Zaragoza\, 50014\, España
CATEGORIES:Telecomunicaciones
END:VEVENT
BEGIN:VEVENT
DTSTART;TZID=UTC:20241028T150000
DTEND;TZID=UTC:20241028T190000
DTSTAMP:20260421T135718
CREATED:20240911T080435Z
LAST-MODIFIED:20240911T080435Z
UID:1571-1730127600-1730142000@escuelatecnicaindustrial.com
SUMMARY:Cableado y fibra óptica - ZARAGOZA
DESCRIPTION:Curso de instalación de sistemas de cableado estructurado y fibra óptica. Consta de dos sesiones\, el lunes 21 y el lunes 28\, en horario de 15h a 19h.
URL:https://escuelatecnicaindustrial.com/curso-eti/cableado-y-fibra-optica-zaragoza-2/
LOCATION:Araiz Suministros Eléctricos Zaragoza\, Araiz Suministros Eléctricos Zaragoza\, Calle Jaime Ferrán 17\, Zaragoza\, 50014\, España
CATEGORIES:Telecomunicaciones
END:VEVENT
END:VCALENDAR