BEGIN:VCALENDAR
VERSION:2.0
PRODID:-//Escuela Técnica Industrial - ECPv6.2.2.1//NONSGML v1.0//EN
CALSCALE:GREGORIAN
METHOD:PUBLISH
X-WR-CALNAME:Escuela Técnica Industrial
X-ORIGINAL-URL:https://escuelatecnicaindustrial.com
X-WR-CALDESC:Eventos para Escuela Técnica Industrial
REFRESH-INTERVAL;VALUE=DURATION:PT1H
X-Robots-Tag:noindex
X-PUBLISHED-TTL:PT1H
BEGIN:VTIMEZONE
TZID:UTC
BEGIN:STANDARD
TZOFFSETFROM:+0000
TZOFFSETTO:+0000
TZNAME:UTC
DTSTART:20240101T000000
END:STANDARD
END:VTIMEZONE
BEGIN:VEVENT
DTSTART;TZID=UTC:20240924T150000
DTEND;TZID=UTC:20240926T183000
DTSTAMP:20260421T102516
CREATED:20240911T074228Z
LAST-MODIFIED:20240911T074948Z
UID:1555-1727190000-1727375400@escuelatecnicaindustrial.com
SUMMARY:Autómatas Omron Sysmac Studio - ZARAGOZA
DESCRIPTION:Mates 24\, miércoles 25 y jueves 26 de septiembre\, en horario de tardes de 15h a 18.30h.
URL:https://escuelatecnicaindustrial.com/curso-eti/automatas-omron-sysmac-studio/
LOCATION:Araiz Suministros Eléctricos Zaragoza\, Araiz Suministros Eléctricos Zaragoza\, Calle Jaime Ferrán 17\, Zaragoza\, 50014\, España
CATEGORIES:Automatización industrial
END:VEVENT
END:VCALENDAR