BEGIN:VCALENDAR
VERSION:2.0
PRODID:-//Escuela Técnica Industrial - ECPv6.2.2.1//NONSGML v1.0//EN
CALSCALE:GREGORIAN
METHOD:PUBLISH
X-ORIGINAL-URL:https://escuelatecnicaindustrial.com
X-WR-CALDESC:Eventos para Escuela Técnica Industrial
REFRESH-INTERVAL;VALUE=DURATION:PT1H
X-Robots-Tag:noindex
X-PUBLISHED-TTL:PT1H
BEGIN:VTIMEZONE
TZID:UTC
BEGIN:STANDARD
TZOFFSETFROM:+0000
TZOFFSETTO:+0000
TZNAME:UTC
DTSTART:20250101T000000
END:STANDARD
END:VTIMEZONE
BEGIN:VEVENT
DTSTART;TZID=UTC:20251210T080000
DTEND;TZID=UTC:20251211T170000
DTSTAMP:20260420T024041
CREATED:20251031T103104Z
LAST-MODIFIED:20251031T103119Z
UID:1780-1765353600-1765472400@escuelatecnicaindustrial.com
SUMMARY:Autómatas Programables Siemens S7-1200 G2 - ZARAGOZA
DESCRIPTION:Curso de control y manejo de Autómatas Programables Siemens S7 – 1200 G2. Tendrá lugar los días 10 y 11 de diciembre\, en horario de mañana de 8:00 a 14:00 horas.
URL:https://escuelatecnicaindustrial.com/curso-eti/automatas-programables-siemens-s7-1200-g2-zaragoza/
LOCATION:Araiz Suministros Eléctricos Zaragoza\, Araiz Suministros Eléctricos Zaragoza\, Calle Jaime Ferrán 17\, Zaragoza\, 50014\, España
CATEGORIES:Automatización industrial
END:VEVENT
END:VCALENDAR