BEGIN:VCALENDAR
VERSION:2.0
PRODID:-//Escuela Técnica Industrial - ECPv6.2.2.1//NONSGML v1.0//EN
CALSCALE:GREGORIAN
METHOD:PUBLISH
X-ORIGINAL-URL:https://escuelatecnicaindustrial.com
X-WR-CALDESC:Eventos para Escuela Técnica Industrial
REFRESH-INTERVAL;VALUE=DURATION:PT1H
X-Robots-Tag:noindex
X-PUBLISHED-TTL:PT1H
BEGIN:VTIMEZONE
TZID:UTC
BEGIN:STANDARD
TZOFFSETFROM:+0000
TZOFFSETTO:+0000
TZNAME:UTC
DTSTART:20250101T000000
END:STANDARD
END:VTIMEZONE
BEGIN:VEVENT
DTSTART;TZID=UTC:20251104T080000
DTEND;TZID=UTC:20251105T170000
DTSTAMP:20260420T025446
CREATED:20251031T111019Z
LAST-MODIFIED:20251031T111019Z
UID:1784-1762243200-1762362000@escuelatecnicaindustrial.com
SUMMARY:Autómatas Programables Schneider - MADRID
DESCRIPTION:Curso de control y manejo de un sistema automatizado mediante Autómatas Programables Schneider. Tendrá lugar los días 4 y 5 de noviembre\, de 8:00 a 17:00 horas.
URL:https://escuelatecnicaindustrial.com/curso-eti/automatas-programables-schneider-madrid/
LOCATION:Araiz Suministros Eléctricos Madrid\, Calle Rey Pastor\, 4\, Leganés\, Madrid\, 28914\, España
CATEGORIES:Automatización industrial
END:VEVENT
BEGIN:VEVENT
DTSTART;TZID=UTC:20251104T080000
DTEND;TZID=UTC:20251106T150000
DTSTAMP:20260420T025446
CREATED:20250929T085059Z
LAST-MODIFIED:20251031T101902Z
UID:1745-1762243200-1762441200@escuelatecnicaindustrial.com
SUMMARY:Autómatas Programables Siemens - MADRID
DESCRIPTION:Curso de control y manejo de un sistema automatizado mediante Autómatas Programables Siemens. Tendrá lugar los días 4\, 5 y 6 de noviembre\, en horario de mañana de 8:00 a 15:00 horas.
URL:https://escuelatecnicaindustrial.com/curso-eti/automatas-programables-schneider-2/
LOCATION:Araiz Suministros Eléctricos Madrid\, Calle Rey Pastor\, 4\, Leganés\, Madrid\, 28914\, España
CATEGORIES:Automatización industrial
END:VEVENT
BEGIN:VEVENT
DTSTART;TZID=UTC:20251111T080000
DTEND;TZID=UTC:20251113T150000
DTSTAMP:20260420T025446
CREATED:20251031T101507Z
LAST-MODIFIED:20251031T101838Z
UID:1762-1762848000-1763046000@escuelatecnicaindustrial.com
SUMMARY:Autómatas Programables Siemens - TOLEDO
DESCRIPTION:Curso de control y manejo de un sistema automatizado mediante Autómatas Programables Siemens. Tendrá lugar los días 11\, 12 y 13 de noviembre\, en horario de mañana de 8:00 a 15:00 horas.
URL:https://escuelatecnicaindustrial.com/curso-eti/automatas-programables-siemens-toledo/
LOCATION:Araiz Suministros Eléctricos Toledo\, Calle Rio Jarama\, 11\, Nave 3-4\, Toledo\, Castilla-La Mancha\, 45007\, Spain
CATEGORIES:Automatización industrial
END:VEVENT
BEGIN:VEVENT
DTSTART;TZID=UTC:20251118T080000
DTEND;TZID=UTC:20251120T150000
DTSTAMP:20260420T025446
CREATED:20251031T101639Z
LAST-MODIFIED:20251031T101639Z
UID:1764-1763452800-1763650800@escuelatecnicaindustrial.com
SUMMARY:Autómatas Programables Siemens - SABADELL
DESCRIPTION:Curso de control y manejo de un sistema automatizado mediante Autómatas Programables Siemens. Tendrá lugar los días 18\, 19 y 20 de noviembre\, en horario de mañana de 8:00 a 15:00 horas.
URL:https://escuelatecnicaindustrial.com/curso-eti/automatas-programables-siemens-sabadell/
LOCATION:Araiz Suministros Eléctricos Sabadell\, Carrer de Víctor Balaguer\, 5\, Sabadell\, 08205
CATEGORIES:Automatización industrial
END:VEVENT
BEGIN:VEVENT
DTSTART;TZID=UTC:20251125T080000
DTEND;TZID=UTC:20251125T140000
DTSTAMP:20260420T025446
CREATED:20251031T102611Z
LAST-MODIFIED:20251031T102712Z
UID:1772-1764057600-1764079200@escuelatecnicaindustrial.com
SUMMARY:Autómatas Programables Schneider - ZARAGOZA
DESCRIPTION:Curso de control y manejo de un sistema automatizado mediante Autómatas Programables Schneider. Tendrá lugar durante 4 días: 25 y 27 de noviembre\, y 2 y 4 de diciembre\, en horario de mañana de 8:00 a 14:00 horas.
URL:https://escuelatecnicaindustrial.com/curso-eti/automatas-programables-schneider-zaragoza/
LOCATION:Araiz Suministros Eléctricos Zaragoza\, Araiz Suministros Eléctricos Zaragoza\, Calle Jaime Ferrán 17\, Zaragoza\, 50014\, España
CATEGORIES:Automatización industrial
END:VEVENT
BEGIN:VEVENT
DTSTART;TZID=UTC:20251127T080000
DTEND;TZID=UTC:20251127T140000
DTSTAMP:20260420T025446
CREATED:20251031T102654Z
LAST-MODIFIED:20251031T102654Z
UID:1774-1764230400-1764252000@escuelatecnicaindustrial.com
SUMMARY:Autómatas Programables Schneider - ZARAGOZA
DESCRIPTION:Curso de control y manejo de un sistema automatizado mediante Autómatas Programables Schneider. Tendrá lugar durante 4 días: 25 y 27 de noviembre\, y 2 y 4 de diciembre\, en horario de mañana de 8:00 a 14:00 horas.
URL:https://escuelatecnicaindustrial.com/curso-eti/automatas-programables-schneider-zaragoza-2/
LOCATION:Araiz Suministros Eléctricos Zaragoza\, Araiz Suministros Eléctricos Zaragoza\, Calle Jaime Ferrán 17\, Zaragoza\, 50014\, España
CATEGORIES:Automatización industrial
END:VEVENT
BEGIN:VEVENT
DTSTART;TZID=UTC:20251127T080000
DTEND;TZID=UTC:20251127T163000
DTSTAMP:20260420T025446
CREATED:20251113T094535Z
LAST-MODIFIED:20251113T094535Z
UID:1787-1764230400-1764261000@escuelatecnicaindustrial.com
SUMMARY:Autómatas Programables PLCNext - LEGANÉS
DESCRIPTION:Curso formativo en autómatas programables PLCNext. Tendrá lugar en la sede de la ETI en Leganés\, el 27 de noviembre. Primera edición.
URL:https://escuelatecnicaindustrial.com/curso-eti/automatas-programables-plcnext-leganes/
LOCATION:Araiz Suministros Eléctricos Leganés\, Calle Rey Pastor\, 4\, Leganés\, Madrid\, 28914\, Spain
CATEGORIES:Automatización industrial
END:VEVENT
END:VCALENDAR