BEGIN:VCALENDAR
VERSION:2.0
PRODID:-//Escuela Técnica Industrial - ECPv6.2.2.1//NONSGML v1.0//EN
CALSCALE:GREGORIAN
METHOD:PUBLISH
X-WR-CALNAME:Escuela Técnica Industrial
X-ORIGINAL-URL:https://escuelatecnicaindustrial.com
X-WR-CALDESC:Eventos para Escuela Técnica Industrial
REFRESH-INTERVAL;VALUE=DURATION:PT1H
X-Robots-Tag:noindex
X-PUBLISHED-TTL:PT1H
BEGIN:VTIMEZONE
TZID:UTC
BEGIN:STANDARD
TZOFFSETFROM:+0000
TZOFFSETTO:+0000
TZNAME:UTC
DTSTART:20250101T000000
END:STANDARD
END:VTIMEZONE
BEGIN:VEVENT
DTSTART;TZID=UTC:20250224T150000
DTEND;TZID=UTC:20250227T180000
DTSTAMP:20260421T004443
CREATED:20250218T111148Z
LAST-MODIFIED:20250218T112007Z
UID:1663-1740409200-1740679200@escuelatecnicaindustrial.com
SUMMARY:Controladores NX Omron - ZARAGOZA
DESCRIPTION:Curso de Controladores NX de Omron\, impartido los días 24\, 25\, 26 y 27 de febrero\, en horario de 15h a 18h.
URL:https://escuelatecnicaindustrial.com/curso-eti/controladores-nx-omron-zaragoza/
CATEGORIES:Automatización industrial
END:VEVENT
END:VCALENDAR