BEGIN:VCALENDAR
VERSION:2.0
PRODID:-//Escuela Técnica Industrial - ECPv6.2.2.1//NONSGML v1.0//EN
CALSCALE:GREGORIAN
METHOD:PUBLISH
X-ORIGINAL-URL:https://escuelatecnicaindustrial.com
X-WR-CALDESC:Eventos para Escuela Técnica Industrial
REFRESH-INTERVAL;VALUE=DURATION:PT1H
X-Robots-Tag:noindex
X-PUBLISHED-TTL:PT1H
BEGIN:VTIMEZONE
TZID:UTC
BEGIN:STANDARD
TZOFFSETFROM:+0000
TZOFFSETTO:+0000
TZNAME:UTC
DTSTART:20260101T000000
END:STANDARD
END:VTIMEZONE
BEGIN:VEVENT
DTSTART;TZID=UTC:20260302T150000
DTEND;TZID=UTC:20260302T190000
DTSTAMP:20260419T205538
CREATED:20260114T124933Z
LAST-MODIFIED:20260114T125416Z
UID:1823-1772463600-1772478000@escuelatecnicaindustrial.com
SUMMARY:Automatización programable I - Grupo 1
DESCRIPTION:Curso gratuito avalado por el INAEM\, dentro del Plan de Formación para el Empleo de Aragón. \nDuración: 60 horas. \nFormación dirigida a trabajadores/as\, prioritariamente ocupados.
URL:https://escuelatecnicaindustrial.com/curso-eti/automatizacion-programable-i-25/
LOCATION:Araiz Suministros Eléctricos Zaragoza\, Araiz Suministros Eléctricos Zaragoza\, Calle Jaime Ferrán 17\, Zaragoza\, 50014\, España
CATEGORIES:Automatización industrial
END:VEVENT
BEGIN:VEVENT
DTSTART;TZID=UTC:20260304T150000
DTEND;TZID=UTC:20260304T190000
DTSTAMP:20260419T205538
CREATED:20260114T124953Z
LAST-MODIFIED:20260114T125352Z
UID:1825-1772636400-1772650800@escuelatecnicaindustrial.com
SUMMARY:Automatización programable I - Grupo 1
DESCRIPTION:Curso gratuito avalado por el INAEM\, dentro del Plan de Formación para el Empleo de Aragón. \nDuración: 60 horas. \nFormación dirigida a trabajadores/as\, prioritariamente ocupados.
URL:https://escuelatecnicaindustrial.com/curso-eti/automatizacion-programable-i-26/
LOCATION:Araiz Suministros Eléctricos Zaragoza\, Araiz Suministros Eléctricos Zaragoza\, Calle Jaime Ferrán 17\, Zaragoza\, 50014\, España
CATEGORIES:Automatización industrial
END:VEVENT
BEGIN:VEVENT
DTSTART;TZID=UTC:20260309T150000
DTEND;TZID=UTC:20260309T190000
DTSTAMP:20260419T205538
CREATED:20260114T125013Z
LAST-MODIFIED:20260114T125306Z
UID:1827-1773068400-1773082800@escuelatecnicaindustrial.com
SUMMARY:Automatización programable I - Grupo 1
DESCRIPTION:Curso gratuito avalado por el INAEM\, dentro del Plan de Formación para el Empleo de Aragón. \nDuración: 60 horas. \nFormación dirigida a trabajadores/as\, prioritariamente ocupados.
URL:https://escuelatecnicaindustrial.com/curso-eti/automatizacion-programable-i-27/
LOCATION:Araiz Suministros Eléctricos Zaragoza\, Araiz Suministros Eléctricos Zaragoza\, Calle Jaime Ferrán 17\, Zaragoza\, 50014\, España
CATEGORIES:Automatización industrial
END:VEVENT
BEGIN:VEVENT
DTSTART;TZID=UTC:20260311T150000
DTEND;TZID=UTC:20260311T190000
DTSTAMP:20260419T205538
CREATED:20260114T125033Z
LAST-MODIFIED:20260114T125322Z
UID:1829-1773241200-1773255600@escuelatecnicaindustrial.com
SUMMARY:Automatización programable I - Grupo 1
DESCRIPTION:Curso gratuito avalado por el INAEM\, dentro del Plan de Formación para el Empleo de Aragón. \nDuración: 60 horas. \nFormación dirigida a trabajadores/as\, prioritariamente ocupados.
URL:https://escuelatecnicaindustrial.com/curso-eti/automatizacion-programable-i-28/
LOCATION:Araiz Suministros Eléctricos Zaragoza\, Araiz Suministros Eléctricos Zaragoza\, Calle Jaime Ferrán 17\, Zaragoza\, 50014\, España
CATEGORIES:Automatización industrial
END:VEVENT
BEGIN:VEVENT
DTSTART;TZID=UTC:20260312T150000
DTEND;TZID=UTC:20260312T190000
DTSTAMP:20260419T205538
CREATED:20260114T125052Z
LAST-MODIFIED:20260114T125337Z
UID:1831-1773327600-1773342000@escuelatecnicaindustrial.com
SUMMARY:Automatización programable I - Grupo 1
DESCRIPTION:Curso gratuito avalado por el INAEM\, dentro del Plan de Formación para el Empleo de Aragón. \nDuración: 60 horas. \nFormación dirigida a trabajadores/as\, prioritariamente ocupados.
URL:https://escuelatecnicaindustrial.com/curso-eti/automatizacion-programable-i-29/
LOCATION:Araiz Suministros Eléctricos Zaragoza\, Araiz Suministros Eléctricos Zaragoza\, Calle Jaime Ferrán 17\, Zaragoza\, 50014\, España
CATEGORIES:Automatización industrial
END:VEVENT
BEGIN:VEVENT
DTSTART;TZID=UTC:20260316T150000
DTEND;TZID=UTC:20260316T190000
DTSTAMP:20260419T205538
CREATED:20260114T125111Z
LAST-MODIFIED:20260114T125248Z
UID:1833-1773673200-1773687600@escuelatecnicaindustrial.com
SUMMARY:Automatización programable I - Grupo 1
DESCRIPTION:Curso gratuito avalado por el INAEM\, dentro del Plan de Formación para el Empleo de Aragón. \nDuración: 60 horas. \nFormación dirigida a trabajadores/as\, prioritariamente ocupados.
URL:https://escuelatecnicaindustrial.com/curso-eti/automatizacion-programable-i-30/
LOCATION:Araiz Suministros Eléctricos Zaragoza\, Araiz Suministros Eléctricos Zaragoza\, Calle Jaime Ferrán 17\, Zaragoza\, 50014\, España
CATEGORIES:Automatización industrial
END:VEVENT
BEGIN:VEVENT
DTSTART;TZID=UTC:20260323T150000
DTEND;TZID=UTC:20260323T190000
DTSTAMP:20260419T205538
CREATED:20260114T125720Z
LAST-MODIFIED:20260114T125720Z
UID:1851-1774278000-1774292400@escuelatecnicaindustrial.com
SUMMARY:Automatización programable I - Grupo 2
DESCRIPTION:Curso gratuito avalado por el INAEM\, dentro del Plan de Formación para el Empleo de Aragón. \nDuración: 60 horas. \nFormación dirigida a trabajadores/as\, prioritariamente ocupados.
URL:https://escuelatecnicaindustrial.com/curso-eti/automatizacion-programable-i-grupo-2/
LOCATION:Araiz Suministros Eléctricos Zaragoza\, Araiz Suministros Eléctricos Zaragoza\, Calle Jaime Ferrán 17\, Zaragoza\, 50014\, España
CATEGORIES:Automatización industrial
END:VEVENT
BEGIN:VEVENT
DTSTART;TZID=UTC:20260325T150000
DTEND;TZID=UTC:20260325T190000
DTSTAMP:20260419T205538
CREATED:20260114T125744Z
LAST-MODIFIED:20260114T125744Z
UID:1853-1774450800-1774465200@escuelatecnicaindustrial.com
SUMMARY:Automatización programable I - Grupo 2
DESCRIPTION:Curso gratuito avalado por el INAEM\, dentro del Plan de Formación para el Empleo de Aragón. \nDuración: 60 horas. \nFormación dirigida a trabajadores/as\, prioritariamente ocupados.
URL:https://escuelatecnicaindustrial.com/curso-eti/automatizacion-programable-i-grupo-2-2/
LOCATION:Araiz Suministros Eléctricos Zaragoza\, Araiz Suministros Eléctricos Zaragoza\, Calle Jaime Ferrán 17\, Zaragoza\, 50014\, España
CATEGORIES:Automatización industrial
END:VEVENT
BEGIN:VEVENT
DTSTART;TZID=UTC:20260326T150000
DTEND;TZID=UTC:20260326T190000
DTSTAMP:20260419T205538
CREATED:20260114T125806Z
LAST-MODIFIED:20260114T125806Z
UID:1855-1774537200-1774551600@escuelatecnicaindustrial.com
SUMMARY:Automatización programable I - Grupo 2
DESCRIPTION:Curso gratuito avalado por el INAEM\, dentro del Plan de Formación para el Empleo de Aragón. \nDuración: 60 horas. \nFormación dirigida a trabajadores/as\, prioritariamente ocupados.
URL:https://escuelatecnicaindustrial.com/curso-eti/automatizacion-programable-i-grupo-2-3/
LOCATION:Araiz Suministros Eléctricos Zaragoza\, Araiz Suministros Eléctricos Zaragoza\, Calle Jaime Ferrán 17\, Zaragoza\, 50014\, España
CATEGORIES:Automatización industrial
END:VEVENT
BEGIN:VEVENT
DTSTART;TZID=UTC:20260330T150000
DTEND;TZID=UTC:20260330T190000
DTSTAMP:20260419T205538
CREATED:20260114T125824Z
LAST-MODIFIED:20260114T125824Z
UID:1857-1774882800-1774897200@escuelatecnicaindustrial.com
SUMMARY:Automatización programable I - Grupo 2
DESCRIPTION:Curso gratuito avalado por el INAEM\, dentro del Plan de Formación para el Empleo de Aragón. \nDuración: 60 horas. \nFormación dirigida a trabajadores/as\, prioritariamente ocupados.
URL:https://escuelatecnicaindustrial.com/curso-eti/automatizacion-programable-i-grupo-2-4/
LOCATION:Araiz Suministros Eléctricos Zaragoza\, Araiz Suministros Eléctricos Zaragoza\, Calle Jaime Ferrán 17\, Zaragoza\, 50014\, España
CATEGORIES:Automatización industrial
END:VEVENT
END:VCALENDAR